Workbook

Sheet calcolo
A1: CALCOLO COSTO AZIENDALE - ANNO 2021 CCNL COOP. SOCIALI
A3: PARAMETRI | B3: LIVELLO INQUADRAMENTO DIPENDENTE | C3: D1
B4: % PART-TIME (100% = FULL TIME) | C4: 1
B5: N. MESI LAVORATI | C5: 12
B6: ANNI ANZIANITA' | C6: 3
B7: ORE MEDIAMENTE LAVORATE (12 MESI FULL-TIME) | C7: 1640
B8: TEMPO IND/DET | C8: T.INDET.
B9: ADESIONE PREVIDENZA COMPLEMENTARE | C9: SI
B10: N. MENSILITA' DA CONTRATTO | C10: 13
B11: BUONO PASTO (COSTO AZIENDALE) | C11: 4
B12: SUPERMINIMO MENSILE | C12: 0
A13: DATI | B13: N. SCATTI ANZIANITA' | C13: =MIN(5,TRUNC(C6/2)) -> 1
B14: LORDO MENSILE | C14: =VLOOKUP(C3,parametri!$A$4:$B$17,2,FALSE) -> 1511.25
B15: IMPORTO SINGOLO SCATTO ANZIANITA' | C15: =VLOOKUP(C3,parametri!A3:C16,3,FALSE) -> 20.66
B16: ELEMENTO RETRIBUTIVO TERRITORIALE (E.R.T.) | C16: =VLOOKUP(C3,parametri!A4:D17,4,FALSE) -> 38.54
B17: STIPENDIO LORDO MENSILE | C17: =C15*C13*C4+C14*C4+C12+C16*C4 -> 1570.45
A19: ALIQUOTE | B19: CONTRIBUTI A CARICO DL | C19: =VLOOKUP(C8,parametri!F4:G5,2,FALSE) -> 0.294
B20: INAIL | C20: =parametri!G8 -> 0.01
B21: TFR | C21: =parametri!G7 -> 0.074074074
B22: IRAP | C22: =VLOOKUP(C8,parametri!F4:H5,3,FALSE) -> 0
B23: PREVIDENZA COMPLEMENTARE CARICO DL | C23: =IF(C9="SI",parametri!G9,0) -> 0.015
A25: CALCOLO | B25: STIPENDI LORDI | C25: =C17*C5 -> 18845.4
B26: MENSILITA' AGGIUNTIVE | C26: =(C25)/C5*C5/12*(C10-12) -> 1570.45
B27: RETRIBUZIONE ANNUA LORDA (R.A.L.) | C27: =C25+C26 -> 20415.85
B28: CONTRIBUTI A CARICO DL | C28: =(C27)*(C19) -> 6002.2599
B29: INAIL A CARICO DL | C29: =(C27)*C20 -> 204.1585
B30: TFR | C30: =(C25)*C21 -> 1395.9556
B31: PREVIDENZA COMPLEMENTARE | C31: =(C27)*C23 -> 306.23775
B32: ASSISTENZA SANITARIA INTEGRATIVA | C32: 66
B33: BUONO PASTO | C33: =C11*parametri!H11*calcolo!C4 -> 860
B34: SUBTOTALE | C34: =SUM(C27:C33) -> 29250.462
B35: INCIDENZA IRAP | C35: =C34*C22 -> 0
B36: TOTALE COSTO PERIODO | C36: =SUM(C34:C35) -> 29250.462
A38: COSTO ORARIO | B38: ORE MEDIAMENTE LAVORATE PERIODO | C38: =C5/12*C7*C4 -> 1640
B39: COSTO ORARIO AZIENDALE | C39: =C34/C38 -> 17.835647
B40: COSTO ORARIO COMPRENSIVO DI IRAP | C40: =C36/C38 -> 17.835647

Sheet parametri
A2: TABELLARE CCNL COOP SOCIALI DAL 01.12.2020 | F2: ALTRI PARAMETRI
A3: LIVELLO | B3: LORDO MENSILE | C3: SCATTO ANZ. | D3: ERT | F3: TIPO CONTR. | G3: ALIQ. CONTR. DL | H3: ALIQ. IRAP DL
A4: F2 | B4: 2023.07 | C4: =118.53/3 -> 39.51 | D4: 58.92 | F4: T.DET. | G4: 0.308 | H4: 0.039
A5: F1 | B5: 2310.41 | C5: =139.44/3 -> 46.48 | D5: 51.59 | F5: T.INDET. | G5: 0.294 | H5: 0
A6: E2 | B6: 1831.74 | C6: =94.5/3 -> 31.5 | D6: 46.71
A7: E1 | B7: 1697.04 | C7: 31.5 | D7: 43.27 | F7: ALIQ. TFR | G7: =1/13.5 -> 0.074074074
A8: D3 | B8: 1697.04 | C8: =80.58/3 -> 26.86 | D8: 43.27 | F8: ALIQ. INAIL | G8: 0.01
A9: D2 | B9: 1594.15 | C9: =69.72/3 -> 23.24 | D9: 40.65 | F9: ALIQ. PREV. C. | G9: 0.015
A10: D1 | B10: 1511.25 | C10: 20.66 | D10: 38.54
A11: C3 | B11: 1511.25 | C11: =61.98/3 -> 20.66 | D11: 38.54 | F11: N. BUONI ANNO FULL-TIME | H11: 215
A12: C2 | B12: 1467.9 | C12: =58.89/3 -> 19.63 | D12: 37.43
A13: C1 | B13: 1425.21 | C13: =55.77/3 -> 18.59 | D13: 36.34
A14: B1 | B14: 1325.21 | C14: =48.81/3 -> 16.27 | D14: 33.79
A15: A2 | B15: 1266.21 | C15: =40.29/3 -> 13.43 | D15: 32.29
A16: A1 | B16: 1254.59 | C16: =34.86/3 -> 11.62 | D16: 31.99
